BEGIN:VCALENDAR
VERSION:2.0
PRODID:-//Exeter Country Club - ECPv6.15.18//NONSGML v1.0//EN
CALSCALE:GREGORIAN
METHOD:PUBLISH
X-WR-CALNAME:Exeter Country Club
X-ORIGINAL-URL:https://www.exetercountryclub.com
X-WR-CALDESC:Events for Exeter Country Club
REFRESH-INTERVAL;VALUE=DURATION:PT1H
X-Robots-Tag:noindex
X-PUBLISHED-TTL:PT1H
BEGIN:VTIMEZONE
TZID:UTC
BEGIN:STANDARD
TZOFFSETFROM:+0000
TZOFFSETTO:+0000
TZNAME:UTC
DTSTART:20250101T000000
END:STANDARD
END:VTIMEZONE
BEGIN:VEVENT
DTSTART;TZID=UTC:20260530T080000
DTEND;TZID=UTC:20260530T130000
DTSTAMP:20260421T040151
CREATED:20260418T132744Z
LAST-MODIFIED:20260418T132744Z
UID:10000064-1780128000-1780146000@www.exetercountryclub.com
SUMMARY:EHS Football Fundraiser
DESCRIPTION:Shotgun Start
URL:https://www.exetercountryclub.com/event/ehs-football-fundraiser-2/
END:VEVENT
BEGIN:VEVENT
DTSTART;TZID=UTC:20260607T080000
DTEND;TZID=UTC:20260607T170000
DTSTAMP:20260421T040151
CREATED:20260418T201801Z
LAST-MODIFIED:20260418T201801Z
UID:10000065-1780819200-1780851600@www.exetercountryclub.com
SUMMARY:Senior Club Championship
DESCRIPTION:8:00 Shotgun Start
URL:https://www.exetercountryclub.com/event/senior-club-championship-2/
ORGANIZER;CN="Bill Cassell":MAILTO:cassellnh@comcast.net
END:VEVENT
BEGIN:VEVENT
DTSTART;TZID=UTC:20260608T090000
DTEND;TZID=UTC:20260608T130000
DTSTAMP:20260421T040151
CREATED:20260418T201859Z
LAST-MODIFIED:20260418T201859Z
UID:10000066-1780909200-1780923600@www.exetercountryclub.com
SUMMARY:Riverwoods Outing
DESCRIPTION:9:00 Shotgun Start
URL:https://www.exetercountryclub.com/event/riverwoods-outing/
END:VEVENT
BEGIN:VEVENT
DTSTART;VALUE=DATE:20260613
DTEND;VALUE=DATE:20260614
DTSTAMP:20260421T040151
CREATED:20260418T202038Z
LAST-MODIFIED:20260418T202050Z
UID:10000067-1781308800-1781395199@www.exetercountryclub.com
SUMMARY:Member-Member Round 1 (Men & Women)
DESCRIPTION:Tee Times TBD
URL:https://www.exetercountryclub.com/event/member-member-round-1-men-women/
ORGANIZER;CN="Bill Cassell":MAILTO:cassellnh@comcast.net
END:VEVENT
BEGIN:VEVENT
DTSTART;TZID=UTC:20260614T080000
DTEND;TZID=UTC:20260614T130000
DTSTAMP:20260421T040151
CREATED:20260418T202148Z
LAST-MODIFIED:20260418T202148Z
UID:10000068-1781424000-1781442000@www.exetercountryclub.com
SUMMARY:Member-Member Round 2 (Men)
DESCRIPTION:
URL:https://www.exetercountryclub.com/event/member-member-round-2-men-2/
ORGANIZER;CN="Bill Cassell":MAILTO:cassellnh@comcast.net
END:VEVENT
BEGIN:VEVENT
DTSTART;TZID=UTC:20260622T080000
DTEND;TZID=UTC:20260622T130000
DTSTAMP:20260421T040151
CREATED:20260418T202247Z
LAST-MODIFIED:20260418T202247Z
UID:10000069-1782115200-1782133200@www.exetercountryclub.com
SUMMARY:Knights of Columbus Outing
DESCRIPTION:Shotgun Start
URL:https://www.exetercountryclub.com/event/knights-of-columbus-outing/
END:VEVENT
BEGIN:VEVENT
DTSTART;TZID=UTC:20260628T080000
DTEND;TZID=UTC:20260628T130000
DTSTAMP:20260421T040151
CREATED:20260418T202327Z
LAST-MODIFIED:20260418T202327Z
UID:10000070-1782633600-1782651600@www.exetercountryclub.com
SUMMARY:PEA Golf Classic
DESCRIPTION:Shotgun Start
URL:https://www.exetercountryclub.com/event/pea-golf-classic/
END:VEVENT
END:VCALENDAR