BEGIN:VCALENDAR
VERSION:2.0
PRODID:-//Exeter Country Club - ECPv6.15.18//NONSGML v1.0//EN
CALSCALE:GREGORIAN
METHOD:PUBLISH
X-ORIGINAL-URL:https://www.exetercountryclub.com
X-WR-CALDESC:Events for Exeter Country Club
REFRESH-INTERVAL;VALUE=DURATION:PT1H
X-Robots-Tag:noindex
X-PUBLISHED-TTL:PT1H
BEGIN:VTIMEZONE
TZID:UTC
BEGIN:STANDARD
TZOFFSETFROM:+0000
TZOFFSETTO:+0000
TZNAME:UTC
DTSTART:20240101T000000
END:STANDARD
END:VTIMEZONE
BEGIN:VTIMEZONE
TZID:America/New_York
BEGIN:DAYLIGHT
TZOFFSETFROM:-0500
TZOFFSETTO:-0400
TZNAME:EDT
DTSTART:20240310T070000
END:DAYLIGHT
BEGIN:STANDARD
TZOFFSETFROM:-0400
TZOFFSETTO:-0500
TZNAME:EST
DTSTART:20241103T060000
END:STANDARD
BEGIN:DAYLIGHT
TZOFFSETFROM:-0500
TZOFFSETTO:-0400
TZNAME:EDT
DTSTART:20250309T070000
END:DAYLIGHT
BEGIN:STANDARD
TZOFFSETFROM:-0400
TZOFFSETTO:-0500
TZNAME:EST
DTSTART:20251102T060000
END:STANDARD
BEGIN:DAYLIGHT
TZOFFSETFROM:-0500
TZOFFSETTO:-0400
TZNAME:EDT
DTSTART:20260308T070000
END:DAYLIGHT
BEGIN:STANDARD
TZOFFSETFROM:-0400
TZOFFSETTO:-0500
TZNAME:EST
DTSTART:20261101T060000
END:STANDARD
END:VTIMEZONE
BEGIN:VEVENT
DTSTART;VALUE=DATE:20250501
DTEND;VALUE=DATE:20250601
DTSTAMP:20260422T065728
CREATED:20250328T103838Z
LAST-MODIFIED:20250328T103838Z
UID:10000004-1746057600-1748735999@www.exetercountryclub.com
SUMMARY:Men's Handicap Qualifying
DESCRIPTION:May 1st Thru May 31st – T-Times to be scheduled by Pro Shop \nCall 603-772-4752 and talk to Bill in the pro shop to register.
URL:https://www.exetercountryclub.com/event/mens-handicap-qualifying/
END:VEVENT
BEGIN:VEVENT
DTSTART;TZID=America/New_York:20250527T171500
DTEND;TZID=America/New_York:20250527T194500
DTSTAMP:20260422T065728
CREATED:20250331T155728Z
LAST-MODIFIED:20250331T155728Z
UID:10000049-1748366100-1748375100@www.exetercountryclub.com
SUMMARY:Tuesday Night Men's League
DESCRIPTION:Regular League Play – 5:15 Shotgun Start
URL:https://www.exetercountryclub.com/event/tuesday-night-mens-league-2/2025-05-27/
END:VEVENT
END:VCALENDAR