BEGIN:VCALENDAR
VERSION:2.0
PRODID:-//Exeter Country Club - ECPv6.15.18//NONSGML v1.0//EN
CALSCALE:GREGORIAN
METHOD:PUBLISH
X-WR-CALNAME:Exeter Country Club
X-ORIGINAL-URL:https://www.exetercountryclub.com
X-WR-CALDESC:Events for Exeter Country Club
REFRESH-INTERVAL;VALUE=DURATION:PT1H
X-Robots-Tag:noindex
X-PUBLISHED-TTL:PT1H
BEGIN:VTIMEZONE
TZID:America/New_York
BEGIN:DAYLIGHT
TZOFFSETFROM:-0500
TZOFFSETTO:-0400
TZNAME:EDT
DTSTART:20240310T070000
END:DAYLIGHT
BEGIN:STANDARD
TZOFFSETFROM:-0400
TZOFFSETTO:-0500
TZNAME:EST
DTSTART:20241103T060000
END:STANDARD
BEGIN:DAYLIGHT
TZOFFSETFROM:-0500
TZOFFSETTO:-0400
TZNAME:EDT
DTSTART:20250309T070000
END:DAYLIGHT
BEGIN:STANDARD
TZOFFSETFROM:-0400
TZOFFSETTO:-0500
TZNAME:EST
DTSTART:20251102T060000
END:STANDARD
BEGIN:DAYLIGHT
TZOFFSETFROM:-0500
TZOFFSETTO:-0400
TZNAME:EDT
DTSTART:20260308T070000
END:DAYLIGHT
BEGIN:STANDARD
TZOFFSETFROM:-0400
TZOFFSETTO:-0500
TZNAME:EST
DTSTART:20261101T060000
END:STANDARD
END:VTIMEZONE
BEGIN:VEVENT
DTSTART;VALUE=DATE:20250427
DTEND;VALUE=DATE:20250428
DTSTAMP:20260420T102659
CREATED:20250331T151424Z
LAST-MODIFIED:20250331T151437Z
UID:10000030-1745712000-1745798399@www.exetercountryclub.com
SUMMARY:Ladies League - Registration Open
DESCRIPTION:Registrations for Members are Due.  Non-Members and Waitlisted Players will be contacted after this date.
URL:https://www.exetercountryclub.com/event/ladies-league-registration-open/
LOCATION:Exeter Country Club\, 58 Jady Hill\, Exeter\, New Hampshire\, 03883
END:VEVENT
END:VCALENDAR